Package: EMDomics Version: 2.34.0 Command: /Library/Frameworks/R.framework/Resources/bin/R CMD build --keep-empty-dirs --no-resave-data EMDomics StartedAt: 2024-10-16 18:57:01 -0400 (Wed, 16 Oct 2024) EndedAt: 2024-10-16 18:57:35 -0400 (Wed, 16 Oct 2024) EllapsedTime: 33.8 seconds RetCode: 0 Status: OK PackageFile: EMDomics_2.34.0.tar.gz PackageFileSize: 336.3 KiB