Package: EMDomics Version: 2.34.0 Command: rm -rf EMDomics.buildbin-libdir && mkdir EMDomics.buildbin-libdir && /Users/biocbuild/BBS/utils/build-universal.sh EMDomics_2.34.0.tar.gz /Library/Frameworks/R.framework/Resources/bin/R EMDomics.buildbin-libdir StartedAt: 2024-10-17 16:05:35 -0400 (Thu, 17 Oct 2024) EndedAt: 2024-10-17 16:05:48 -0400 (Thu, 17 Oct 2024) EllapsedTime: 12.7 seconds RetCode: 0 Status: OK PackageFile: EMDomics_2.34.0.tgz PackageFileSize: 425.6 KiB