Package: EMDomics Version: 2.34.0 Command: /Library/Frameworks/R.framework/Resources/bin/R CMD build --keep-empty-dirs --no-resave-data EMDomics StartedAt: 2024-10-16 23:54:08 -0400 (Wed, 16 Oct 2024) EndedAt: 2024-10-16 23:54:28 -0400 (Wed, 16 Oct 2024) EllapsedTime: 20.4 seconds RetCode: 0 Status: OK PackageFile: EMDomics_2.34.0.tar.gz PackageFileSize: 322.7 KiB