Package: EMDomics Version: 2.34.0 Command: rm -rf EMDomics.buildbin-libdir && mkdir EMDomics.buildbin-libdir && /Users/biocbuild/BBS/utils/build-universal.sh EMDomics_2.34.0.tar.gz /Library/Frameworks/R.framework/Resources/bin/R EMDomics.buildbin-libdir StartedAt: 2024-10-18 18:19:46 -0400 (Fri, 18 Oct 2024) EndedAt: 2024-10-18 18:19:54 -0400 (Fri, 18 Oct 2024) EllapsedTime: 7.9 seconds RetCode: 0 Status: OK PackageFile: EMDomics_2.34.0.tgz PackageFileSize: 412.3 KiB