Package: ELMER Version: 2.28.0 Command: E:\biocbuild\bbs-3.19-bioc\R\bin\R.exe CMD INSTALL ELMER StartedAt: 2024-10-16 17:18:41 -0400 (Wed, 16 Oct 2024) EndedAt: 2024-10-16 17:19:57 -0400 (Wed, 16 Oct 2024) EllapsedTime: 76.2 seconds RetCode: 0 Status: OK