Package: ELMER Version: 2.28.0 Command: E:\biocbuild\bbs-3.19-bioc\R\bin\R.exe CMD check --no-multiarch --install=check:ELMER.install-out.txt --library=E:\biocbuild\bbs-3.19-bioc\R\library --no-vignettes --timings ELMER_2.28.0.tar.gz StartedAt: 2024-10-17 01:10:28 -0400 (Thu, 17 Oct 2024) EndedAt: 2024-10-17 01:29:35 -0400 (Thu, 17 Oct 2024) EllapsedTime: 1146.6 seconds RetCode: 0 Status: OK CheckDir: ELMER.Rcheck Warnings: 0