Package: ELMER Version: 2.28.0 Command: chmod a+r ELMER -R && E:\biocbuild\bbs-3.19-bioc\R\bin\R.exe CMD build --keep-empty-dirs --no-resave-data ELMER StartedAt: 2024-10-16 18:50:38 -0400 (Wed, 16 Oct 2024) EndedAt: 2024-10-16 19:01:33 -0400 (Wed, 16 Oct 2024) EllapsedTime: 655.6 seconds RetCode: 0 Status: OK PackageFile: ELMER_2.28.0.tar.gz PackageFileSize: 41.24 MiB