Package: ELMER Version: 2.28.0 Command: rm -rf ELMER.buildbin-libdir && mkdir ELMER.buildbin-libdir && F:\biocbuild\bbs-3.19-bioc\R\bin\R.exe CMD INSTALL --build --library=ELMER.buildbin-libdir ELMER_2.28.0.tar.gz StartedAt: 2024-06-27 08:09:53 -0400 (Thu, 27 Jun 2024) EndedAt: 2024-06-27 08:11:39 -0400 (Thu, 27 Jun 2024) EllapsedTime: 105.3 seconds RetCode: 0 Status: OK PackageFile: ELMER_2.28.0.zip PackageFileSize: 38.8 MiB