Package: ELMER Version: 2.28.0 Command: /home/biocbuild/bbs-3.19-bioc/R/bin/R CMD INSTALL ELMER StartedAt: 2024-10-16 16:44:10 -0400 (Wed, 16 Oct 2024) EndedAt: 2024-10-16 16:45:04 -0400 (Wed, 16 Oct 2024) EllapsedTime: 53.9 seconds RetCode: 0 Status: OK