Package: ELMER Version: 2.28.0 Command: /Library/Frameworks/R.framework/Resources/bin/R CMD check --install=check:ELMER.install-out.txt --library=/Library/Frameworks/R.framework/Resources/library --no-vignettes --timings ELMER_2.28.0.tar.gz StartedAt: 2024-10-17 20:33:43 -0400 (Thu, 17 Oct 2024) EndedAt: 2024-10-17 20:51:26 -0400 (Thu, 17 Oct 2024) EllapsedTime: 1063.4 seconds RetCode: 0 Status: OK CheckDir: ELMER.Rcheck Warnings: 0