Package: EGSEA Version: 1.32.0 Command: rm -rf EGSEA.buildbin-libdir && mkdir EGSEA.buildbin-libdir && F:\biocbuild\bbs-3.19-bioc\R\bin\R.exe CMD INSTALL --build --library=EGSEA.buildbin-libdir EGSEA_1.32.0.tar.gz StartedAt: 2024-06-27 08:09:46 -0400 (Thu, 27 Jun 2024) EndedAt: 2024-06-27 08:11:03 -0400 (Thu, 27 Jun 2024) EllapsedTime: 76.9 seconds RetCode: 0 Status: OK PackageFile: EGSEA_1.32.0.zip PackageFileSize: 2.446 MiB