Package: EGSEA Version: 1.32.0 Command: /home/biocbuild/bbs-3.19-bioc/R/bin/R CMD build --keep-empty-dirs --no-resave-data EGSEA StartedAt: 2024-10-16 18:19:19 -0400 (Wed, 16 Oct 2024) EndedAt: 2024-10-16 18:23:14 -0400 (Wed, 16 Oct 2024) EllapsedTime: 235.4 seconds RetCode: 0 Status: OK PackageFile: EGSEA_1.32.0.tar.gz PackageFileSize: 2.106 MiB