Package: EGSEA Version: 1.32.0 Command: /Library/Frameworks/R.framework/Resources/bin/R CMD build --keep-empty-dirs --no-resave-data EGSEA StartedAt: 2024-10-16 18:56:46 -0400 (Wed, 16 Oct 2024) EndedAt: 2024-10-16 19:08:20 -0400 (Wed, 16 Oct 2024) EllapsedTime: 693.3 seconds RetCode: 0 Status: OK PackageFile: EGSEA_1.32.0.tar.gz PackageFileSize: 2.092 MiB