Package: EGSEA Version: 1.32.0 Command: rm -rf EGSEA.buildbin-libdir && mkdir EGSEA.buildbin-libdir && /Users/biocbuild/BBS/utils/build-universal.sh EGSEA_1.32.0.tar.gz /Library/Frameworks/R.framework/Resources/bin/R EGSEA.buildbin-libdir StartedAt: 2024-10-17 16:05:26 -0400 (Thu, 17 Oct 2024) EndedAt: 2024-10-17 16:07:35 -0400 (Thu, 17 Oct 2024) EllapsedTime: 128.9 seconds RetCode: 0 Status: OK PackageFile: EGSEA_1.32.0.tgz PackageFileSize: 2.437 MiB