Package: EGAD Version: 1.32.0 Command: E:\biocbuild\bbs-3.19-bioc\R\bin\R.exe CMD INSTALL EGAD StartedAt: 2024-10-16 16:54:34 -0400 (Wed, 16 Oct 2024) EndedAt: 2024-10-16 16:55:08 -0400 (Wed, 16 Oct 2024) EllapsedTime: 34.2 seconds RetCode: 0 Status: OK