Package: EGAD Version: 1.32.0 Command: rm -rf EGAD.buildbin-libdir && mkdir EGAD.buildbin-libdir && E:\biocbuild\bbs-3.19-bioc\R\bin\R.exe CMD INSTALL --build --library=EGAD.buildbin-libdir EGAD_1.32.0.tar.gz StartedAt: 2024-10-17 07:44:16 -0400 (Thu, 17 Oct 2024) EndedAt: 2024-10-17 07:45:03 -0400 (Thu, 17 Oct 2024) EllapsedTime: 47.0 seconds RetCode: 0 Status: OK PackageFile: EGAD_1.32.0.zip PackageFileSize: 35.64 MiB