Package: EGAD Version: 1.32.0 Command: chmod a+r EGAD -R && F:\biocbuild\bbs-3.19-bioc\R\bin\R.exe CMD build --keep-empty-dirs --no-resave-data EGAD StartedAt: 2024-06-26 18:33:42 -0400 (Wed, 26 Jun 2024) EndedAt: 2024-06-26 18:33:49 -0400 (Wed, 26 Jun 2024) EllapsedTime: 7.3 seconds RetCode: 0 Status: OK PackageFile: EGAD_1.32.0.tar.gz PackageFileSize: 14.57 MiB