Package: EGAD Version: 1.32.0 Command: /Library/Frameworks/R.framework/Resources/bin/R CMD check --install=check:EGAD.install-out.txt --library=/Library/Frameworks/R.framework/Resources/library --no-vignettes --timings EGAD_1.32.0.tar.gz StartedAt: 2024-10-17 04:45:15 -0400 (Thu, 17 Oct 2024) EndedAt: 2024-10-17 04:48:06 -0400 (Thu, 17 Oct 2024) EllapsedTime: 171.3 seconds RetCode: 0 Status: WARNINGS CheckDir: EGAD.Rcheck Warnings: 1