Package: EGAD Version: 1.32.0 Command: rm -rf EGAD.buildbin-libdir && mkdir EGAD.buildbin-libdir && /Users/biocbuild/BBS/utils/build-universal.sh EGAD_1.32.0.tar.gz /Library/Frameworks/R.framework/Resources/bin/R EGAD.buildbin-libdir StartedAt: 2024-10-17 16:05:25 -0400 (Thu, 17 Oct 2024) EndedAt: 2024-10-17 16:06:19 -0400 (Thu, 17 Oct 2024) EllapsedTime: 54.5 seconds RetCode: 0 Status: OK PackageFile: EGAD_1.32.0.tgz PackageFileSize: 36.78 MiB