Package: EGAD Version: 1.32.0 Command: rm -rf EGAD.buildbin-libdir && mkdir EGAD.buildbin-libdir && /Users/biocbuild/BBS/utils/build-universal.sh EGAD_1.32.0.tar.gz /Library/Frameworks/R.framework/Resources/bin/R EGAD.buildbin-libdir StartedAt: 2024-06-11 11:04:16 -0400 (Tue, 11 Jun 2024) EndedAt: 2024-06-11 11:05:00 -0400 (Tue, 11 Jun 2024) EllapsedTime: 44.5 seconds RetCode: 0 Status: OK PackageFile: EGAD_1.32.0.tgz PackageFileSize: 36.78 MiB