Package: EGAD Version: 1.32.0 Command: /Library/Frameworks/R.framework/Resources/bin/R CMD INSTALL EGAD StartedAt: 2024-10-16 17:46:12 -0400 (Wed, 16 Oct 2024) EndedAt: 2024-10-16 17:46:44 -0400 (Wed, 16 Oct 2024) EllapsedTime: 32.7 seconds RetCode: 0 Status: OK