Package: EDIRquery Version: 1.4.0 Command: E:\biocbuild\bbs-3.19-bioc\R\bin\R.exe CMD INSTALL EDIRquery StartedAt: 2024-10-16 16:21:51 -0400 (Wed, 16 Oct 2024) EndedAt: 2024-10-16 16:22:21 -0400 (Wed, 16 Oct 2024) EllapsedTime: 29.7 seconds RetCode: 0 Status: OK