Package: EDIRquery Version: 1.4.0 Command: rm -rf EDIRquery.buildbin-libdir && mkdir EDIRquery.buildbin-libdir && E:\biocbuild\bbs-3.19-bioc\R\bin\R.exe CMD INSTALL --build --library=EDIRquery.buildbin-libdir EDIRquery_1.4.0.tar.gz StartedAt: 2024-10-17 07:44:11 -0400 (Thu, 17 Oct 2024) EndedAt: 2024-10-17 07:44:40 -0400 (Thu, 17 Oct 2024) EllapsedTime: 29.6 seconds RetCode: 0 Status: OK PackageFile: EDIRquery_1.4.0.zip PackageFileSize: 1.629 MiB