Package: EDIRquery Version: 1.4.0 Command: /Library/Frameworks/R.framework/Resources/bin/R CMD INSTALL EDIRquery StartedAt: 2024-06-09 15:11:57 -0400 (Sun, 09 Jun 2024) EndedAt: 2024-06-09 15:12:30 -0400 (Sun, 09 Jun 2024) EllapsedTime: 32.6 seconds RetCode: 0 Status: OK