Package: EDIRquery Version: 1.4.0 Command: rm -rf EDIRquery.buildbin-libdir && mkdir EDIRquery.buildbin-libdir && /Users/biocbuild/BBS/utils/build-universal.sh EDIRquery_1.4.0.tar.gz /Library/Frameworks/R.framework/Resources/bin/R EDIRquery.buildbin-libdir StartedAt: 2024-06-10 00:16:32 -0400 (Mon, 10 Jun 2024) EndedAt: 2024-06-10 00:17:07 -0400 (Mon, 10 Jun 2024) EllapsedTime: 34.7 seconds RetCode: 0 Status: OK PackageFile: EDIRquery_1.4.0.tgz PackageFileSize: 1.688 MiB