Package: EDIRquery Version: 1.4.0 Command: /Library/Frameworks/R.framework/Resources/bin/R CMD INSTALL EDIRquery StartedAt: 2024-06-09 15:19:41 -0400 (Sun, 09 Jun 2024) EndedAt: 2024-06-09 15:20:14 -0400 (Sun, 09 Jun 2024) EllapsedTime: 33.6 seconds RetCode: 0 Status: OK