Package: EDIRquery Version: 1.4.0 Maintainer: Laura D.T. Vo Ngoc MaintainerEmail: doan.vongoc at vub.be git_url: https://git.bioconductor.org/packages/EDIRquery git_branch: RELEASE_3_19 git_last_commit: 466dc4e git_last_commit_date: 2024-04-30 11:48:47 -0400 (Tue, 30 Apr 2024)