Package: EDASeq Version: 2.38.0 Command: E:\biocbuild\bbs-3.19-bioc\R\bin\R.exe CMD INSTALL EDASeq StartedAt: 2024-10-16 16:38:12 -0400 (Wed, 16 Oct 2024) EndedAt: 2024-10-16 16:39:09 -0400 (Wed, 16 Oct 2024) EllapsedTime: 56.4 seconds RetCode: 0 Status: OK