Package: EDASeq Version: 2.38.0 Command: E:\biocbuild\bbs-3.19-bioc\R\bin\R.exe CMD check --no-multiarch --install=check:EDASeq.install-out.txt --library=E:\biocbuild\bbs-3.19-bioc\R\library --no-vignettes --timings EDASeq_2.38.0.tar.gz StartedAt: 2024-10-17 01:08:11 -0400 (Thu, 17 Oct 2024) EndedAt: 2024-10-17 01:13:39 -0400 (Thu, 17 Oct 2024) EllapsedTime: 328.2 seconds RetCode: 0 Status: OK CheckDir: EDASeq.Rcheck Warnings: 0