Package: EDASeq Version: 2.38.0 Command: rm -rf EDASeq.buildbin-libdir && mkdir EDASeq.buildbin-libdir && E:\biocbuild\bbs-3.19-bioc\R\bin\R.exe CMD INSTALL --build --library=EDASeq.buildbin-libdir EDASeq_2.38.0.tar.gz StartedAt: 2024-10-17 07:44:02 -0400 (Thu, 17 Oct 2024) EndedAt: 2024-10-17 07:45:08 -0400 (Thu, 17 Oct 2024) EllapsedTime: 65.8 seconds RetCode: 0 Status: OK PackageFile: EDASeq_2.38.0.zip PackageFileSize: 821.8 KiB