Package: EDASeq Version: 2.38.0 Command: rm -rf EDASeq.buildbin-libdir && mkdir EDASeq.buildbin-libdir && F:\biocbuild\bbs-3.19-bioc\R\bin\R.exe CMD INSTALL --build --library=EDASeq.buildbin-libdir EDASeq_2.38.0.tar.gz StartedAt: 2024-06-27 08:09:32 -0400 (Thu, 27 Jun 2024) EndedAt: 2024-06-27 08:10:32 -0400 (Thu, 27 Jun 2024) EllapsedTime: 59.3 seconds RetCode: 0 Status: OK PackageFile: EDASeq_2.38.0.zip PackageFileSize: 821.7 KiB