Package: EDASeq Version: 2.38.0 Command: /Library/Frameworks/R.framework/Resources/bin/R CMD INSTALL EDASeq StartedAt: 2024-10-16 15:51:21 -0400 (Wed, 16 Oct 2024) EndedAt: 2024-10-16 15:52:56 -0400 (Wed, 16 Oct 2024) EllapsedTime: 95.0 seconds RetCode: 0 Status: OK