Package: EDASeq Version: 2.38.0 Command: rm -rf EDASeq.buildbin-libdir && mkdir EDASeq.buildbin-libdir && /Users/biocbuild/BBS/utils/build-universal.sh EDASeq_2.38.0.tar.gz /Library/Frameworks/R.framework/Resources/bin/R EDASeq.buildbin-libdir StartedAt: 2024-10-17 16:05:04 -0400 (Thu, 17 Oct 2024) EndedAt: 2024-10-17 16:06:46 -0400 (Thu, 17 Oct 2024) EllapsedTime: 102.1 seconds RetCode: 0 Status: OK PackageFile: EDASeq_2.38.0.tgz PackageFileSize: 1.329 MiB