Package: EDASeq Version: 2.38.0 Command: /home/biocbuild/R/R-beta-2024-04-15_r86425/bin/R CMD build --keep-empty-dirs --no-resave-data EDASeq StartedAt: 2024-05-09 00:03:09 -0000 (Thu, 09 May 2024) EndedAt: 2024-05-09 00:04:56 -0000 (Thu, 09 May 2024) EllapsedTime: 106.2 seconds RetCode: 0 Status: OK PackageFile: EDASeq_2.38.0.tar.gz PackageFileSize: 707 KiB