Package: EDASeq Version: 2.38.0 Command: /Library/Frameworks/R.framework/Resources/bin/R CMD INSTALL EDASeq StartedAt: 2024-10-16 16:59:46 -0400 (Wed, 16 Oct 2024) EndedAt: 2024-10-16 17:00:36 -0400 (Wed, 16 Oct 2024) EllapsedTime: 49.6 seconds RetCode: 0 Status: OK