Package: EBcoexpress Version: 1.48.0 Command: chmod a+r EBcoexpress -R && F:\biocbuild\bbs-3.19-bioc\R\bin\R.exe CMD build --keep-empty-dirs --no-resave-data EBcoexpress StartedAt: 2024-06-26 18:32:37 -0400 (Wed, 26 Jun 2024) EndedAt: 2024-06-26 18:33:09 -0400 (Wed, 26 Jun 2024) EllapsedTime: 31.9 seconds RetCode: 0 Status: OK PackageFile: EBcoexpress_1.48.0.tar.gz PackageFileSize: 732.4 KiB