Package: EBcoexpress Version: 1.48.0 Command: /home/biocbuild/bbs-3.19-bioc/R/bin/R CMD build --keep-empty-dirs --no-resave-data EBcoexpress StartedAt: 2024-10-16 18:18:36 -0400 (Wed, 16 Oct 2024) EndedAt: 2024-10-16 18:18:56 -0400 (Wed, 16 Oct 2024) EllapsedTime: 20.1 seconds RetCode: 0 Status: OK PackageFile: EBcoexpress_1.48.0.tar.gz PackageFileSize: 2.79 MiB