Package: EBcoexpress Version: 1.48.0 Command: /Library/Frameworks/R.framework/Resources/bin/R CMD check --install=check:EBcoexpress.install-out.txt --library=/Library/Frameworks/R.framework/Resources/library --no-vignettes --timings EBcoexpress_1.48.0.tar.gz StartedAt: 2024-10-17 20:25:48 -0400 (Thu, 17 Oct 2024) EndedAt: 2024-10-17 20:26:29 -0400 (Thu, 17 Oct 2024) EllapsedTime: 40.9 seconds RetCode: 0 Status: OK CheckDir: EBcoexpress.Rcheck Warnings: 0