Package: EBcoexpress Version: 1.48.0 Command: rm -rf EBcoexpress.buildbin-libdir && mkdir EBcoexpress.buildbin-libdir && /Users/biocbuild/BBS/utils/build-universal.sh EBcoexpress_1.48.0.tar.gz /Library/Frameworks/R.framework/Resources/bin/R EBcoexpress.buildbin-libdir StartedAt: 2024-10-18 18:17:58 -0400 (Fri, 18 Oct 2024) EndedAt: 2024-10-18 18:18:08 -0400 (Fri, 18 Oct 2024) EllapsedTime: 10.2 seconds RetCode: 0 Status: OK PackageFile: EBcoexpress_1.48.0.tgz PackageFileSize: 2.749 MiB