Package: EBcoexpress Version: 1.48.0 Maintainer: John A. Dawson MaintainerEmail: jadawson at wisc.edu git_url: https://git.bioconductor.org/packages/EBcoexpress git_branch: RELEASE_3_19 git_last_commit: 16f99dc git_last_commit_date: 2024-04-30 10:27:32 -0400 (Tue, 30 Apr 2024)