Package: EBarrays Version: 2.68.0 Command: /Library/Frameworks/R.framework/Resources/bin/R CMD check --install=check:EBarrays.install-out.txt --library=/Library/Frameworks/R.framework/Resources/library --no-vignettes --timings EBarrays_2.68.0.tar.gz StartedAt: 2024-06-09 20:08:56 -0400 (Sun, 09 Jun 2024) EndedAt: 2024-06-09 20:09:52 -0400 (Sun, 09 Jun 2024) EllapsedTime: 56.2 seconds RetCode: 0 Status: OK CheckDir: EBarrays.Rcheck Warnings: 0