Package: EBarrays Version: 2.68.0 Command: /Library/Frameworks/R.framework/Resources/bin/R CMD INSTALL EBarrays StartedAt: 2024-10-16 15:36:13 -0400 (Wed, 16 Oct 2024) EndedAt: 2024-10-16 15:36:19 -0400 (Wed, 16 Oct 2024) EllapsedTime: 6.5 seconds RetCode: 0 Status: OK