############################################################################## ############################################################################## ### ### Running command: ### ### chmod a+r EBSeqHMM -R && E:\biocbuild\bbs-3.19-bioc\R\bin\R.exe CMD build --keep-empty-dirs --no-resave-data EBSeqHMM ### ############################################################################## ############################################################################## * checking for file 'EBSeqHMM/DESCRIPTION' ... OK * preparing 'EBSeqHMM': * checking DESCRIPTION meta-information ... OK * installing the package to build vignettes ----------------------------------- * installing *source* package 'EBSeqHMM' ... ** using staged installation ** R Error in .install_package_code_files(".", instdir) : files in 'E:/biocbuild/bbs-3.19-bioc/tmpdir/Rtmpe63u2Y/Rbuild20ec3887328d/EBSeqHMM/R' missing from 'Collate' field: zzz.R ERROR: unable to collate and parse R files for package 'EBSeqHMM' * removing 'E:/biocbuild/bbs-3.19-bioc/tmpdir/Rtmpe63u2Y/Rinst20ec7c51534/EBSeqHMM' ----------------------------------- ERROR: package installation failed