Package: EBSeqHMM Version: 1.38.0 Command: F:\biocbuild\bbs-3.19-bioc\R\bin\R.exe CMD INSTALL EBSeqHMM StartedAt: 2024-06-26 16:27:39 -0400 (Wed, 26 Jun 2024) EndedAt: 2024-06-26 16:27:43 -0400 (Wed, 26 Jun 2024) EllapsedTime: 3.7 seconds RetCode: 1 Status: ERROR