Package: EBSeqHMM Version: 1.38.0 Command: /Library/Frameworks/R.framework/Resources/bin/R CMD INSTALL EBSeqHMM StartedAt: 2024-10-16 17:42:44 -0400 (Wed, 16 Oct 2024) EndedAt: 2024-10-16 17:42:45 -0400 (Wed, 16 Oct 2024) EllapsedTime: 1.5 seconds RetCode: 1 Status: ERROR