Package: EBSeq Version: 2.2.0 Command: rm -rf EBSeq.buildbin-libdir && mkdir EBSeq.buildbin-libdir && E:\biocbuild\bbs-3.19-bioc\R\bin\R.exe CMD INSTALL --build --library=EBSeq.buildbin-libdir EBSeq_2.2.0.tar.gz StartedAt: 2024-10-17 07:43:59 -0400 (Thu, 17 Oct 2024) EndedAt: 2024-10-17 07:44:52 -0400 (Thu, 17 Oct 2024) EllapsedTime: 53.5 seconds RetCode: 0 Status: OK PackageFile: EBSeq_2.2.0.zip PackageFileSize: 1.489 MiB