Package: EBSeq Version: 2.2.0 Command: F:\biocbuild\bbs-3.19-bioc\R\bin\R.exe CMD INSTALL EBSeq StartedAt: 2024-06-26 16:26:58 -0400 (Wed, 26 Jun 2024) EndedAt: 2024-06-26 16:27:38 -0400 (Wed, 26 Jun 2024) EllapsedTime: 39.9 seconds RetCode: 0 Status: OK