Package: EBSeq Version: 2.2.0 Command: chmod a+r EBSeq -R && F:\biocbuild\bbs-3.19-bioc\R\bin\R.exe CMD build --keep-empty-dirs --no-resave-data EBSeq StartedAt: 2024-06-26 18:33:03 -0400 (Wed, 26 Jun 2024) EndedAt: 2024-06-26 18:33:10 -0400 (Wed, 26 Jun 2024) EllapsedTime: 7.2 seconds RetCode: 0 Status: OK PackageFile: EBSeq_2.2.0.tar.gz PackageFileSize: 1.07 MiB