Package: EBSeq Version: 2.2.0 Command: rm -rf EBSeq.buildbin-libdir && mkdir EBSeq.buildbin-libdir && F:\biocbuild\bbs-3.19-bioc\R\bin\R.exe CMD INSTALL --build --library=EBSeq.buildbin-libdir EBSeq_2.2.0.tar.gz StartedAt: 2024-06-27 08:09:28 -0400 (Thu, 27 Jun 2024) EndedAt: 2024-06-27 08:10:19 -0400 (Thu, 27 Jun 2024) EllapsedTime: 51.0 seconds RetCode: 0 Status: OK PackageFile: EBSeq_2.2.0.zip PackageFileSize: 1.488 MiB