Package: EBSeq Version: 2.2.0 Command: /Library/Frameworks/R.framework/Resources/bin/R CMD INSTALL EBSeq StartedAt: 2024-10-16 16:11:36 -0400 (Wed, 16 Oct 2024) EndedAt: 2024-10-16 16:12:37 -0400 (Wed, 16 Oct 2024) EllapsedTime: 60.8 seconds RetCode: 0 Status: OK